BEGIN:VCALENDAR
VERSION:2.0
PRODID:-//Fundacja Lubelski Fundusz Lokalny - ECPv6.1.3//NONSGML v1.0//EN
CALSCALE:GREGORIAN
METHOD:PUBLISH
X-WR-CALNAME:Fundacja Lubelski Fundusz Lokalny
X-ORIGINAL-URL:https://lubelskifunduszlokalny.pl
X-WR-CALDESC:Events for Fundacja Lubelski Fundusz Lokalny
REFRESH-INTERVAL;VALUE=DURATION:PT1H
X-Robots-Tag:noindex
X-PUBLISHED-TTL:PT1H
BEGIN:VTIMEZONE
TZID:Europe/Paris
BEGIN:DAYLIGHT
TZOFFSETFROM:+0100
TZOFFSETTO:+0200
TZNAME:CEST
DTSTART:20210328T010000
END:DAYLIGHT
BEGIN:STANDARD
TZOFFSETFROM:+0200
TZOFFSETTO:+0100
TZNAME:CET
DTSTART:20211031T010000
END:STANDARD
END:VTIMEZONE
BEGIN:VEVENT
DTSTART;VALUE=DATE:20210605
DTEND;VALUE=DATE:20210607
DTSTAMP:20260425T133217
CREATED:20210501T195357Z
LAST-MODIFIED:20210501T195357Z
UID:1172-1622851200-1623023999@lubelskifunduszlokalny.pl
SUMMARY:Wiosenna edycja Nałęczowskiego Festiwalu Otwartych Ogrodów
DESCRIPTION:
URL:https://lubelskifunduszlokalny.pl/wydarzenie/wiosenna-edycja-naleczowskiego-festiwalu-otwartych-ogrodow/
LOCATION:Nałęczów\, Nałęczów\, Poland
END:VEVENT
END:VCALENDAR